Package: mastR Version: 1.8.0 Command: rm -rf mastR.buildbin-libdir && mkdir mastR.buildbin-libdir && /Users/biocbuild/BBS/utils/build-universal.sh mastR_1.8.0.tar.gz /Library/Frameworks/R.framework/Resources/bin/R mastR.buildbin-libdir StartedAt: 2025-04-21 22:40:49 -0400 (Mon, 21 Apr 2025) EndedAt: 2025-04-21 22:41:08 -0400 (Mon, 21 Apr 2025) EllapsedTime: 18.4 seconds RetCode: 0 Status: OK PackageFile: mastR_1.8.0.tgz PackageFileSize: 3.312 MiB