Package: mastR Version: 1.8.0 Command: /Library/Frameworks/R.framework/Resources/bin/R CMD INSTALL mastR StartedAt: 2025-10-13 16:15:02 -0400 (Mon, 13 Oct 2025) EndedAt: 2025-10-13 16:15:51 -0400 (Mon, 13 Oct 2025) EllapsedTime: 49.1 seconds RetCode: 0 Status: OK