Package: mastR Version: 1.8.0 Command: /Library/Frameworks/R.framework/Resources/bin/R CMD build --keep-empty-dirs --no-resave-data mastR StartedAt: 2025-10-14 03:30:48 -0400 (Tue, 14 Oct 2025) EndedAt: 2025-10-14 03:33:12 -0400 (Tue, 14 Oct 2025) EllapsedTime: 143.7 seconds RetCode: 1 Status: ERROR PackageFile: None PackageFileSize: NA