Package: mastR Version: 1.8.0 Command: rm -rf mastR.buildbin-libdir && mkdir mastR.buildbin-libdir && /Users/biocbuild/BBS/utils/build-universal.sh mastR_1.8.0.tar.gz /Library/Frameworks/R.framework/Resources/bin/R mastR.buildbin-libdir StartedAt: 2025-06-14 16:16:42 -0400 (Sat, 14 Jun 2025) EndedAt: 2025-06-14 16:17:35 -0400 (Sat, 14 Jun 2025) EllapsedTime: 52.6 seconds RetCode: 0 Status: OK PackageFile: mastR_1.8.0.tgz PackageFileSize: 3.309 MiB