Package: mastR Version: 1.8.0 Maintainer: Jinjin Chen MaintainerEmail: chen.j at wehi.edu.au git_url: https://git.bioconductor.org/packages/mastR git_branch: RELEASE_3_21 git_last_commit: 8e934fb git_last_commit_date: 2025-04-15 13:14:09 -0400 (Tue, 15 Apr 2025)