Package: massiR Version: 1.44.0 Command: E:\biocbuild\bbs-3.21-bioc\R\bin\R.exe CMD INSTALL massiR StartedAt: 2025-08-14 15:39:43 -0400 (Thu, 14 Aug 2025) EndedAt: 2025-08-14 15:39:55 -0400 (Thu, 14 Aug 2025) EllapsedTime: 11.8 seconds RetCode: 0 Status: OK