Package: massiR Version: 1.44.0 Command: rm -rf massiR.buildbin-libdir && mkdir massiR.buildbin-libdir && E:\biocbuild\bbs-3.21-bioc\R\bin\R.exe CMD INSTALL --build --library=massiR.buildbin-libdir massiR_1.44.0.tar.gz StartedAt: 2025-08-15 09:38:09 -0400 (Fri, 15 Aug 2025) EndedAt: 2025-08-15 09:38:17 -0400 (Fri, 15 Aug 2025) EllapsedTime: 8.0 seconds RetCode: 0 Status: OK PackageFile: massiR_1.44.0.zip PackageFileSize: 1.065 MiB