Package: massiR Version: 1.44.0 Command: /Library/Frameworks/R.framework/Resources/bin/R CMD check --install=check:massiR.install-out.txt --library=/Library/Frameworks/R.framework/Resources/library --no-vignettes --timings massiR_1.44.0.tar.gz StartedAt: 2025-04-21 21:39:33 -0400 (Mon, 21 Apr 2025) EndedAt: 2025-04-21 21:40:14 -0400 (Mon, 21 Apr 2025) EllapsedTime: 41.7 seconds RetCode: 0 Status: OK CheckDir: massiR.Rcheck Warnings: 0