Package: massiR Version: 1.44.0 Command: /home/biocbuild/R/R/bin/R CMD INSTALL massiR StartedAt: 2025-10-13 20:24:16 -0000 (Mon, 13 Oct 2025) EndedAt: 2025-10-13 20:24:21 -0000 (Mon, 13 Oct 2025) EllapsedTime: 4.6 seconds RetCode: 0 Status: OK