Package: massiR Version: 1.44.0 Command: /Library/Frameworks/R.framework/Resources/bin/R CMD check --install=check:massiR.install-out.txt --library=/Library/Frameworks/R.framework/Resources/library --no-vignettes --timings massiR_1.44.0.tar.gz StartedAt: 2025-10-15 02:26:55 -0400 (Wed, 15 Oct 2025) EndedAt: 2025-10-15 02:27:33 -0400 (Wed, 15 Oct 2025) EllapsedTime: 38.0 seconds RetCode: 0 Status: OK CheckDir: massiR.Rcheck Warnings: 0