Package: massiR Version: 1.44.0 Command: /Library/Frameworks/R.framework/Resources/bin/R CMD build --keep-empty-dirs --no-resave-data massiR StartedAt: 2025-10-14 03:29:40 -0400 (Tue, 14 Oct 2025) EndedAt: 2025-10-14 03:29:56 -0400 (Tue, 14 Oct 2025) EllapsedTime: 15.7 seconds RetCode: 0 Status: OK PackageFile: massiR_1.44.0.tar.gz PackageFileSize: 1.115 MiB