Package: massiR Version: 1.44.0 Command: rm -rf massiR.buildbin-libdir && mkdir massiR.buildbin-libdir && /Users/biocbuild/BBS/utils/build-universal.sh massiR_1.44.0.tar.gz /Library/Frameworks/R.framework/Resources/bin/R massiR.buildbin-libdir StartedAt: 2025-10-15 19:09:15 -0400 (Wed, 15 Oct 2025) EndedAt: 2025-10-15 19:09:21 -0400 (Wed, 15 Oct 2025) EllapsedTime: 5.6 seconds RetCode: 0 Status: OK PackageFile: massiR_1.44.0.tgz PackageFileSize: 1.149 MiB