Package: maskBAD Version: 1.52.0 Command: rm -rf maskBAD.buildbin-libdir && mkdir maskBAD.buildbin-libdir && E:\biocbuild\bbs-3.21-bioc\R\bin\R.exe CMD INSTALL --build --library=maskBAD.buildbin-libdir maskBAD_1.52.0.tar.gz StartedAt: 2025-08-15 09:38:06 -0400 (Fri, 15 Aug 2025) EndedAt: 2025-08-15 09:38:21 -0400 (Fri, 15 Aug 2025) EllapsedTime: 15.0 seconds RetCode: 0 Status: OK PackageFile: maskBAD_1.52.0.zip PackageFileSize: 1.417 MiB