Package: maskBAD Version: 1.52.0 Command: /Library/Frameworks/R.framework/Resources/bin/R CMD INSTALL maskBAD StartedAt: 2025-10-13 16:39:18 -0400 (Mon, 13 Oct 2025) EndedAt: 2025-10-13 16:39:43 -0400 (Mon, 13 Oct 2025) EllapsedTime: 24.7 seconds RetCode: 0 Status: OK