Package: maskBAD Version: 1.52.0 Command: /Library/Frameworks/R.framework/Resources/bin/R CMD build --keep-empty-dirs --no-resave-data maskBAD StartedAt: 2025-10-13 20:12:35 -0400 (Mon, 13 Oct 2025) EndedAt: 2025-10-13 20:16:40 -0400 (Mon, 13 Oct 2025) EllapsedTime: 245.4 seconds RetCode: 0 Status: OK PackageFile: maskBAD_1.52.0.tar.gz PackageFileSize: 1.543 MiB