Package: martini Version: 1.28.0 Command: /Library/Frameworks/R.framework/Resources/bin/R CMD INSTALL martini StartedAt: 2025-10-06 15:57:05 -0400 (Mon, 06 Oct 2025) EndedAt: 2025-10-06 15:57:27 -0400 (Mon, 06 Oct 2025) EllapsedTime: 22.1 seconds RetCode: 0 Status: OK