Package: martini Version: 1.28.0 Command: rm -rf martini.buildbin-libdir && mkdir martini.buildbin-libdir && /Users/biocbuild/BBS/utils/build-universal.sh martini_1.28.0.tar.gz /Library/Frameworks/R.framework/Resources/bin/R martini.buildbin-libdir StartedAt: 2025-10-08 21:34:38 -0400 (Wed, 08 Oct 2025) EndedAt: 2025-10-08 21:35:06 -0400 (Wed, 08 Oct 2025) EllapsedTime: 28.4 seconds RetCode: 0 Status: OK PackageFile: martini_1.28.0.tgz PackageFileSize: 702 KiB