Package: martini Version: 1.28.0 Maintainer: Hector Climente-Gonzalez MaintainerEmail: hector.climente at a.riken.jp git_url: https://git.bioconductor.org/packages/martini git_branch: RELEASE_3_21 git_last_commit: 0445ae3 git_last_commit_date: 2025-04-15 11:18:15 -0400 (Tue, 15 Apr 2025)