Package: marr Version: 1.18.0 Command: chmod a+r marr -R && E:\biocbuild\bbs-3.21-bioc\R\bin\R.exe CMD build --keep-empty-dirs --no-resave-data marr StartedAt: 2025-08-14 20:08:55 -0400 (Thu, 14 Aug 2025) EndedAt: 2025-08-14 20:10:20 -0400 (Thu, 14 Aug 2025) EllapsedTime: 85.4 seconds RetCode: 0 Status: OK PackageFile: marr_1.18.0.tar.gz PackageFileSize: 584.1 KiB