Package: marr Version: 1.18.0 Command: rm -rf marr.buildbin-libdir && mkdir marr.buildbin-libdir && E:\biocbuild\bbs-3.21-bioc\R\bin\R.exe CMD INSTALL --build --library=marr.buildbin-libdir marr_1.18.0.tar.gz StartedAt: 2025-08-15 09:37:54 -0400 (Fri, 15 Aug 2025) EndedAt: 2025-08-15 09:38:44 -0400 (Fri, 15 Aug 2025) EllapsedTime: 49.5 seconds RetCode: 0 Status: OK PackageFile: marr_1.18.0.zip PackageFileSize: 1.103 MiB