Package: marr Version: 1.18.0 Command: /home/biocbuild/bbs-3.21-bioc/R/bin/R CMD INSTALL marr StartedAt: 2025-10-01 15:22:33 -0400 (Wed, 01 Oct 2025) EndedAt: 2025-10-01 15:23:04 -0400 (Wed, 01 Oct 2025) EllapsedTime: 31.3 seconds RetCode: 0 Status: OK