Package: marr Version: 1.18.0 Command: rm -rf marr.buildbin-libdir && mkdir marr.buildbin-libdir && /Users/biocbuild/BBS/utils/build-universal.sh marr_1.18.0.tar.gz /Library/Frameworks/R.framework/Resources/bin/R marr.buildbin-libdir StartedAt: 2025-10-14 13:55:12 -0400 (Tue, 14 Oct 2025) EndedAt: 2025-10-14 13:57:06 -0400 (Tue, 14 Oct 2025) EllapsedTime: 114.7 seconds RetCode: 0 Status: OK PackageFile: marr_1.18.0.tgz PackageFileSize: 808.9 KiB