Package: marr Version: 1.18.0 Command: /home/biocbuild/R/R/bin/R CMD check --install=check:marr.install-out.txt --library=/home/biocbuild/R/R/site-library --no-vignettes --timings marr_1.18.0.tar.gz StartedAt: 2025-09-30 11:17:44 -0000 (Tue, 30 Sep 2025) EndedAt: 2025-09-30 11:22:12 -0000 (Tue, 30 Sep 2025) EllapsedTime: 267.3 seconds RetCode: 0 Status: OK CheckDir: marr.Rcheck Warnings: 0