Package: marr Version: 1.18.0 Command: /Library/Frameworks/R.framework/Resources/bin/R CMD check --install=check:marr.install-out.txt --library=/Library/Frameworks/R.framework/Resources/library --no-vignettes --timings marr_1.18.0.tar.gz StartedAt: 2025-10-11 03:23:09 -0400 (Sat, 11 Oct 2025) EndedAt: 2025-10-11 03:27:46 -0400 (Sat, 11 Oct 2025) EllapsedTime: 277.0 seconds RetCode: 0 Status: OK CheckDir: marr.Rcheck Warnings: 0