Package: marr Version: 1.18.0 Command: rm -rf marr.buildbin-libdir && mkdir marr.buildbin-libdir && /Users/biocbuild/BBS/utils/build-universal.sh marr_1.18.0.tar.gz /Library/Frameworks/R.framework/Resources/bin/R marr.buildbin-libdir StartedAt: 2025-10-11 20:50:46 -0400 (Sat, 11 Oct 2025) EndedAt: 2025-10-11 20:51:28 -0400 (Sat, 11 Oct 2025) EllapsedTime: 42.1 seconds RetCode: 0 Status: OK PackageFile: marr_1.18.0.tgz PackageFileSize: 808.6 KiB