Package: mariner Version: 1.8.1 Command: rm -rf mariner.buildbin-libdir && mkdir mariner.buildbin-libdir && E:\biocbuild\bbs-3.21-bioc\R\bin\R.exe CMD INSTALL --build --library=mariner.buildbin-libdir mariner_1.8.1.tar.gz StartedAt: 2025-08-15 09:37:52 -0400 (Fri, 15 Aug 2025) EndedAt: 2025-08-15 09:39:38 -0400 (Fri, 15 Aug 2025) EllapsedTime: 105.7 seconds RetCode: 0 Status: OK PackageFile: mariner_1.8.1.zip PackageFileSize: 1.231 MiB