Package: mariner Version: 1.8.1 Command: /home/biocbuild/bbs-3.21-bioc/R/bin/R CMD check --install=check:mariner.install-out.txt --library=/home/biocbuild/bbs-3.21-bioc/R/site-library --timings mariner_1.8.1.tar.gz StartedAt: 2025-10-09 00:33:11 -0400 (Thu, 09 Oct 2025) EndedAt: 2025-10-09 00:44:14 -0400 (Thu, 09 Oct 2025) EllapsedTime: 663.0 seconds RetCode: 0 Status: OK CheckDir: mariner.Rcheck Warnings: 0