Package: mariner Version: 1.8.1 Command: /Library/Frameworks/R.framework/Resources/bin/R CMD build --keep-empty-dirs --no-resave-data mariner StartedAt: 2025-10-06 20:10:05 -0400 (Mon, 06 Oct 2025) EndedAt: 2025-10-06 20:13:57 -0400 (Mon, 06 Oct 2025) EllapsedTime: 232.3 seconds RetCode: 0 Status: OK PackageFile: mariner_1.8.1.tar.gz PackageFileSize: 707.9 KiB