Package: mariner Version: 1.8.1 Command: rm -rf mariner.buildbin-libdir && mkdir mariner.buildbin-libdir && /Users/biocbuild/BBS/utils/build-universal.sh mariner_1.8.1.tar.gz /Library/Frameworks/R.framework/Resources/bin/R mariner.buildbin-libdir StartedAt: 2025-10-07 13:36:58 -0400 (Tue, 07 Oct 2025) EndedAt: 2025-10-07 13:39:16 -0400 (Tue, 07 Oct 2025) EllapsedTime: 137.9 seconds RetCode: 0 Status: OK PackageFile: mariner_1.8.1.tgz PackageFileSize: 1.229 MiB