Package: mariner Version: 1.8.1 Command: /home/biocbuild/R/R/bin/R CMD check --install=check:mariner.install-out.txt --library=/home/biocbuild/R/R/site-library --no-vignettes --timings mariner_1.8.1.tar.gz StartedAt: 2025-10-07 11:07:58 -0000 (Tue, 07 Oct 2025) EndedAt: 2025-10-07 11:24:01 -0000 (Tue, 07 Oct 2025) EllapsedTime: 963.3 seconds RetCode: 0 Status: OK CheckDir: mariner.Rcheck Warnings: 0