Package: mariner Version: 1.8.1 Command: rm -rf mariner.buildbin-libdir && mkdir mariner.buildbin-libdir && /Users/biocbuild/BBS/utils/build-universal.sh mariner_1.8.1.tar.gz /Library/Frameworks/R.framework/Resources/bin/R mariner.buildbin-libdir StartedAt: 2025-10-04 18:37:25 -0400 (Sat, 04 Oct 2025) EndedAt: 2025-10-04 18:38:20 -0400 (Sat, 04 Oct 2025) EllapsedTime: 55.3 seconds RetCode: 0 Status: OK PackageFile: mariner_1.8.1.tgz PackageFileSize: 1.23 MiB