Package: mapscape Version: 1.32.0 Command: rm -rf mapscape.buildbin-libdir && mkdir mapscape.buildbin-libdir && E:\biocbuild\bbs-3.21-bioc\R\bin\R.exe CMD INSTALL --build --library=mapscape.buildbin-libdir mapscape_1.32.0.tar.gz StartedAt: 2025-08-15 09:37:51 -0400 (Fri, 15 Aug 2025) EndedAt: 2025-08-15 09:38:07 -0400 (Fri, 15 Aug 2025) EllapsedTime: 16.7 seconds RetCode: 0 Status: OK PackageFile: mapscape_1.32.0.zip PackageFileSize: 4.136 MiB