Package: mapscape Version: 1.32.0 Command: /Library/Frameworks/R.framework/Resources/bin/R CMD INSTALL mapscape StartedAt: 2025-10-13 15:19:32 -0400 (Mon, 13 Oct 2025) EndedAt: 2025-10-13 15:20:01 -0400 (Mon, 13 Oct 2025) EllapsedTime: 29.8 seconds RetCode: 0 Status: OK