Package: magrene Version: 1.10.0 Command: /home/biocbuild/bbs-3.21-bioc/R/bin/R CMD INSTALL magrene StartedAt: 2025-10-15 15:04:11 -0400 (Wed, 15 Oct 2025) EndedAt: 2025-10-15 15:04:39 -0400 (Wed, 15 Oct 2025) EllapsedTime: 27.4 seconds RetCode: 0 Status: OK