Package: magrene Version: 1.10.0 Command: /Library/Frameworks/R.framework/Resources/bin/R CMD check --install=check:magrene.install-out.txt --library=/Library/Frameworks/R.framework/Resources/library --no-vignettes --timings magrene_1.10.0.tar.gz StartedAt: 2025-10-14 05:56:51 -0400 (Tue, 14 Oct 2025) EndedAt: 2025-10-14 05:58:52 -0400 (Tue, 14 Oct 2025) EllapsedTime: 121.9 seconds RetCode: 0 Status: OK CheckDir: magrene.Rcheck Warnings: 0