Package: magrene Version: 1.10.0 Command: /home/biocbuild/R/R/bin/R CMD INSTALL magrene StartedAt: 2025-10-13 20:15:20 -0000 (Mon, 13 Oct 2025) EndedAt: 2025-10-13 20:15:52 -0000 (Mon, 13 Oct 2025) EllapsedTime: 31.4 seconds RetCode: 0 Status: OK