Package: magrene Version: 1.10.0 Command: /home/biocbuild/R/R/bin/R CMD build --keep-empty-dirs --no-resave-data magrene StartedAt: 2025-10-14 02:04:46 -0000 (Tue, 14 Oct 2025) EndedAt: 2025-10-14 02:05:51 -0000 (Tue, 14 Oct 2025) EllapsedTime: 65.0 seconds RetCode: 0 Status: OK PackageFile: magrene_1.10.0.tar.gz PackageFileSize: 2.28 MiB