Package: magrene Version: 1.10.0 Command: /Library/Frameworks/R.framework/Resources/bin/R CMD INSTALL magrene StartedAt: 2025-10-13 15:13:52 -0400 (Mon, 13 Oct 2025) EndedAt: 2025-10-13 15:13:59 -0400 (Mon, 13 Oct 2025) EllapsedTime: 7.1 seconds RetCode: 0 Status: OK