Package: magrene Version: 1.10.0 Command: rm -rf magrene.buildbin-libdir && mkdir magrene.buildbin-libdir && /Users/biocbuild/BBS/utils/build-universal.sh magrene_1.10.0.tar.gz /Library/Frameworks/R.framework/Resources/bin/R magrene.buildbin-libdir StartedAt: 2025-10-15 19:07:45 -0400 (Wed, 15 Oct 2025) EndedAt: 2025-10-15 19:07:50 -0400 (Wed, 15 Oct 2025) EllapsedTime: 4.5 seconds RetCode: 0 Status: OK PackageFile: magrene_1.10.0.tgz PackageFileSize: 2.188 MiB