Package: magpie Version: 1.8.0 Command: chmod a+r magpie -R && E:\biocbuild\bbs-3.21-bioc\R\bin\R.exe CMD build --keep-empty-dirs --no-resave-data magpie StartedAt: 2025-08-14 20:07:11 -0400 (Thu, 14 Aug 2025) EndedAt: 2025-08-14 20:08:36 -0400 (Thu, 14 Aug 2025) EllapsedTime: 84.3 seconds RetCode: 0 Status: OK PackageFile: magpie_1.8.0.tar.gz PackageFileSize: 1.54 MiB