Package: magpie Version: 1.8.0 Command: /home/biocbuild/bbs-3.21-bioc/R/bin/R CMD INSTALL magpie StartedAt: 2025-10-15 15:38:47 -0400 (Wed, 15 Oct 2025) EndedAt: 2025-10-15 15:39:26 -0400 (Wed, 15 Oct 2025) EllapsedTime: 39.0 seconds RetCode: 0 Status: OK