Package: magpie Version: 1.8.0 Command: /Library/Frameworks/R.framework/Resources/bin/R CMD check --install=check:magpie.install-out.txt --library=/Library/Frameworks/R.framework/Resources/library --no-vignettes --timings magpie_1.8.0.tar.gz StartedAt: 2025-10-14 05:56:35 -0400 (Tue, 14 Oct 2025) EndedAt: 2025-10-14 06:05:52 -0400 (Tue, 14 Oct 2025) EllapsedTime: 557.7 seconds RetCode: 0 Status: WARNINGS CheckDir: magpie.Rcheck Warnings: 1