Package: magpie Version: 1.8.0 Command: rm -rf magpie.buildbin-libdir && mkdir magpie.buildbin-libdir && /Users/biocbuild/BBS/utils/build-universal.sh magpie_1.8.0.tar.gz /Library/Frameworks/R.framework/Resources/bin/R magpie.buildbin-libdir StartedAt: 2025-10-14 13:54:26 -0400 (Tue, 14 Oct 2025) EndedAt: 2025-10-14 13:57:01 -0400 (Tue, 14 Oct 2025) EllapsedTime: 154.7 seconds RetCode: 0 Status: OK PackageFile: magpie_1.8.0.tgz PackageFileSize: 2.113 MiB