Package: magpie Version: 1.8.0 Command: /home/biocbuild/R/R/bin/R CMD check --install=check:magpie.install-out.txt --library=/home/biocbuild/R/R/site-library --no-vignettes --timings magpie_1.8.0.tar.gz StartedAt: 2025-10-14 10:45:50 -0000 (Tue, 14 Oct 2025) EndedAt: 2025-10-14 10:51:51 -0000 (Tue, 14 Oct 2025) EllapsedTime: 361.3 seconds RetCode: 0 Status: WARNINGS CheckDir: magpie.Rcheck Warnings: 1