Package: magpie Version: 1.8.0 Command: /Library/Frameworks/R.framework/Resources/bin/R CMD INSTALL magpie StartedAt: 2025-10-13 17:15:08 -0400 (Mon, 13 Oct 2025) EndedAt: 2025-10-13 17:15:53 -0400 (Mon, 13 Oct 2025) EllapsedTime: 44.8 seconds RetCode: 0 Status: OK