Package: maftools Version: 2.24.0 Command: chmod a+r maftools -R && E:\biocbuild\bbs-3.21-bioc\R\bin\R.exe CMD build --keep-empty-dirs --no-resave-data maftools StartedAt: 2025-08-14 20:07:00 -0400 (Thu, 14 Aug 2025) EndedAt: 2025-08-14 20:11:55 -0400 (Thu, 14 Aug 2025) EllapsedTime: 294.9 seconds RetCode: 0 Status: OK PackageFile: maftools_2.24.0.tar.gz PackageFileSize: 9.014 MiB