Package: maftools Version: 2.24.0 Command: rm -rf maftools.buildbin-libdir && mkdir maftools.buildbin-libdir && /Users/biocbuild/BBS/utils/build-universal.sh maftools_2.24.0.tar.gz /Library/Frameworks/R.framework/Resources/bin/R maftools.buildbin-libdir StartedAt: 2025-10-14 13:54:08 -0400 (Tue, 14 Oct 2025) EndedAt: 2025-10-14 13:55:32 -0400 (Tue, 14 Oct 2025) EllapsedTime: 83.7 seconds RetCode: 0 Status: OK PackageFile: maftools_2.24.0.tgz PackageFileSize: 13.11 MiB