Package: maaslin3 Version: 1.0.0 Command: E:\biocbuild\bbs-3.21-bioc\R\bin\R.exe CMD check --no-multiarch --install=check:maaslin3.install-out.txt --library=E:\biocbuild\bbs-3.21-bioc\R\library --no-vignettes --timings maaslin3_1.0.0.tar.gz StartedAt: 2025-08-15 03:40:53 -0400 (Fri, 15 Aug 2025) EndedAt: 2025-08-15 03:56:05 -0400 (Fri, 15 Aug 2025) EllapsedTime: 911.3 seconds RetCode: 0 Status: OK CheckDir: maaslin3.Rcheck Warnings: 0