Package: maaslin3 Version: 1.0.0 Command: chmod a+r maaslin3 -R && E:\biocbuild\bbs-3.21-bioc\R\bin\R.exe CMD build --keep-empty-dirs --no-resave-data maaslin3 StartedAt: 2025-08-14 20:06:03 -0400 (Thu, 14 Aug 2025) EndedAt: 2025-08-14 20:18:39 -0400 (Thu, 14 Aug 2025) EllapsedTime: 755.9 seconds RetCode: 0 Status: OK PackageFile: maaslin3_1.0.0.tar.gz PackageFileSize: 1.088 MiB