Package: maaslin3 Version: 1.0.0 Command: rm -rf maaslin3.buildbin-libdir && mkdir maaslin3.buildbin-libdir && E:\biocbuild\bbs-3.21-bioc\R\bin\R.exe CMD INSTALL --build --library=maaslin3.buildbin-libdir maaslin3_1.0.0.tar.gz StartedAt: 2025-08-15 09:37:01 -0400 (Fri, 15 Aug 2025) EndedAt: 2025-08-15 09:38:06 -0400 (Fri, 15 Aug 2025) EllapsedTime: 65.0 seconds RetCode: 0 Status: OK PackageFile: maaslin3_1.0.0.zip PackageFileSize: 1.249 MiB